BEGIN:VCALENDAR
VERSION:2.0
PRODID:-//ChamberMaster//Event Calendar 2.0//EN
METHOD:PUBLISH
X-PUBLISHED-TTL:P3D
REFRESH-INTERVAL:P3D
CALSCALE:GREGORIAN
BEGIN:VEVENT
DTSTART:20260312T000000Z
DTEND:20260312T020000Z
X-MICROSOFT-CDO-ALLDAYEVENT:FALSE
SUMMARY:After 5 Membership Mixer - 2026
DESCRIPTION:
X-ALT-DESC;FMTTYPE=text/html:
LOCATION:Monogram Homes 1950 Bellerive Ln UNIT 107\, Coeur d'Alene\, ID 83814
UID:e.9298.11187
SEQUENCE:3
DTSTAMP:20260424T231135Z
URL:https://business.nibca.com/events/details/after-5-membership-mixer-2026-03-11-2026-11187
END:VEVENT

END:VCALENDAR
