BEGIN:VCALENDAR
VERSION:2.0
PRODID:-//ChamberMaster//Event Calendar 2.0//EN
METHOD:PUBLISH
X-PUBLISHED-TTL:P3D
REFRESH-INTERVAL:P3D
CALSCALE:GREGORIAN
BEGIN:VEVENT
DTSTART:20190725T230000Z
DTEND:20190726T000000Z
X-MICROSOFT-CDO-ALLDAYEVENT:FALSE
SUMMARY:Associates Council
DESCRIPTION:Associates Council Meeting
X-ALT-DESC;FMTTYPE=text/html:Associates Council Meeting&nbsp\;&nbsp\;&nbsp\;&nbsp\;
LOCATION:Paddy's Appleway CDA
UID:e.9298.1319
SEQUENCE:3
DTSTAMP:20260421T102307Z
URL:https://business.nibca.com/events/details/associates-council-07-25-2019-1319
END:VEVENT

END:VCALENDAR
