BEGIN:VCALENDAR
VERSION:2.0
PRODID:-//ChamberMaster//Event Calendar 2.0//EN
METHOD:PUBLISH
X-PUBLISHED-TTL:P3D
REFRESH-INTERVAL:P3D
CALSCALE:GREGORIAN
BEGIN:VEVENT
DTSTART:20260514T223000Z
DTEND:20260514T233000Z
X-MICROSOFT-CDO-ALLDAYEVENT:FALSE
SUMMARY:Buckshot and Blades Meeting
DESCRIPTION:
X-ALT-DESC;FMTTYPE=text/html:
LOCATION:Come help support the Northern Counties Buckshot and Blades Event. Are you interested in planning fun events - this is an awesome way to participate in helping organize our 3rd annual event. Title One 605 5th Ave Sandpoint\, ID 83864
UID:e.9298.11479
SEQUENCE:3
DTSTAMP:20260424T212656Z
URL:https://business.nibca.com/events/details/buckshot-and-blades-meeting-05-14-2026-11479
END:VEVENT

END:VCALENDAR
