BEGIN:VCALENDAR
VERSION:2.0
PRODID:-//ChamberMaster//Event Calendar 2.0//EN
METHOD:PUBLISH
X-PUBLISHED-TTL:P3D
REFRESH-INTERVAL:P3D
CALSCALE:GREGORIAN
BEGIN:VEVENT
DTSTART:20260515T140000Z
DTEND:20260515T160000Z
X-MICROSOFT-CDO-ALLDAYEVENT:FALSE
SUMMARY:Classroom
DESCRIPTION:Sam TechCare360
X-ALT-DESC;FMTTYPE=text/html:Sam TechCare360
LOCATION:
UID:e.9298.11481
SEQUENCE:3
DTSTAMP:20260424T202230Z
URL:https://business.nibca.com/events/details/classroom-11481
END:VEVENT

END:VCALENDAR
