BEGIN:VCALENDAR
VERSION:2.0
PRODID:-//ChamberMaster//Event Calendar 2.0//EN
METHOD:PUBLISH
X-PUBLISHED-TTL:P3D
REFRESH-INTERVAL:P3D
CALSCALE:GREGORIAN
BEGIN:VEVENT
DTSTART:20190514T230000Z
DTEND:20190515T010000Z
X-MICROSOFT-CDO-ALLDAYEVENT:FALSE
SUMMARY:Constructon Combine Thank you.
DESCRIPTION:Join us for Burgers and Brews to \n\nThank you for making the Fiirst Construction Combine such a great success.
X-ALT-DESC;FMTTYPE=text/html:Join us for Burgers and Brews to&nbsp\;<br />\nThank you for making the Fiirst Construction Combine such a great success.
LOCATION:NIBCA office 1928 N 4th St
UID:e.9298.1519
SEQUENCE:3
DTSTAMP:20260421T122957Z
URL:https://business.nibca.com/events/details/constructon-combine-thank-you-1519
END:VEVENT

END:VCALENDAR
