BEGIN:VCALENDAR
VERSION:2.0
PRODID:-//ChamberMaster//Event Calendar 2.0//EN
METHOD:PUBLISH
X-PUBLISHED-TTL:P3D
REFRESH-INTERVAL:P3D
CALSCALE:GREGORIAN
BEGIN:VEVENT
DTSTART:20190516T000000Z
DTEND:20190516T020000Z
X-MICROSOFT-CDO-ALLDAYEVENT:FALSE
SUMMARY:GMM General Membership Meeting
DESCRIPTION:General Membership Meeting   \n\nHear from our Committee Chairs about what's new and exciting for NIBCA this year
X-ALT-DESC;FMTTYPE=text/html:General Membership Meeting&nbsp\; &nbsp\;<br />\nHear from our Committee Chairs about what&#39\;s new and exciting for NIBCA this year&nbsp\; &nbsp\;&nbsp\;
LOCATION:Best Western/CDA Inn 506 W Appleway
UID:e.9298.1380
SEQUENCE:3
DTSTAMP:20260421T123143Z
URL:https://business.nibca.com/events/details/gmm-general-membership-meeting-1380
END:VEVENT

END:VCALENDAR
