BEGIN:VCALENDAR
VERSION:2.0
PRODID:-//ChamberMaster//Event Calendar 2.0//EN
METHOD:PUBLISH
X-PUBLISHED-TTL:P3D
REFRESH-INTERVAL:P3D
CALSCALE:GREGORIAN
BEGIN:VEVENT
DTSTART:20190618T190000Z
DTEND:20190618T200000Z
X-MICROSOFT-CDO-ALLDAYEVENT:FALSE
SUMMARY:Joint Government Issues Event
DESCRIPTION:Mayor Ronald Jacobson of Post Falls will be the guest speaker this month
X-ALT-DESC;FMTTYPE=text/html:Mayor Ronald Jacobson of Post Falls will be the guest speaker this month&nbsp\;
LOCATION:NIBCA Office 1928 North 4th Street Coeur d'Alene\, ID 83814 Leslie@NIBCA.com
UID:e.9298.1266
SEQUENCE:3
DTSTAMP:20260421T111909Z
URL:https://business.nibca.com/events/details/joint-government-issues-event-06-18-2019-1266
END:VEVENT

END:VCALENDAR
