BEGIN:VCALENDAR
VERSION:2.0
PRODID:-//ChamberMaster//Event Calendar 2.0//EN
METHOD:PUBLISH
X-PUBLISHED-TTL:P3D
REFRESH-INTERVAL:P3D
CALSCALE:GREGORIAN
BEGIN:VEVENT
DTSTART:20151130T220000Z
DTEND:20151130T230000Z
X-MICROSOFT-CDO-ALLDAYEVENT:FALSE
SUMMARY:Membership Committee Meeting
DESCRIPTION:
X-ALT-DESC;FMTTYPE=text/html:
LOCATION:NIBCA Office
UID:e.9298.509
SEQUENCE:3
DTSTAMP:20260424T002144Z
URL:https://business.nibca.com/events/details/membership-committee-meeting-11-30-2015-509
END:VEVENT

END:VCALENDAR
