BEGIN:VCALENDAR
VERSION:2.0
PRODID:-//ChamberMaster//Event Calendar 2.0//EN
METHOD:PUBLISH
X-PUBLISHED-TTL:P3D
REFRESH-INTERVAL:P3D
CALSCALE:GREGORIAN
BEGIN:VEVENT
DTSTART:20181009T230000Z
DTEND:20181010T000000Z
X-MICROSOFT-CDO-ALLDAYEVENT:FALSE
SUMMARY:Membership Committee Meeting
DESCRIPTION:Membership Committee Meeting
X-ALT-DESC;FMTTYPE=text/html:Membership Committee Meeting
LOCATION:Mulligan's Best Western Plus Appleway
UID:e.9298.1248
SEQUENCE:3
DTSTAMP:20260420T104258Z
URL:https://business.nibca.com/events/details/membership-committee-meeting-1248
END:VEVENT

END:VCALENDAR
