BEGIN:VCALENDAR
VERSION:2.0
PRODID:-//ChamberMaster//Event Calendar 2.0//EN
METHOD:PUBLISH
X-PUBLISHED-TTL:P3D
REFRESH-INTERVAL:P3D
CALSCALE:GREGORIAN
BEGIN:VEVENT
DTSTART;VALUE=DATE:20190604
DTEND;VALUE=DATE:20190609
TRANSP:TRANSPARENT
X-MICROSOFT-CDO-ALLDAYEVENT:TRUE
SUMMARY:NAHB Mid Year Meeting
DESCRIPTION:NAHB Mid Year Meeting
X-ALT-DESC;FMTTYPE=text/html:NAHB Mid Year Meeting
LOCATION:Washington DC
UID:e.9298.1255
SEQUENCE:3
DTSTAMP:20260421T110828Z
URL:https://business.nibca.com/events/details/nahb-mid-year-meeting-1255
END:VEVENT

END:VCALENDAR
