BEGIN:VCALENDAR
VERSION:2.0
PRODID:-//ChamberMaster//Event Calendar 2.0//EN
METHOD:PUBLISH
X-PUBLISHED-TTL:P3D
REFRESH-INTERVAL:P3D
CALSCALE:GREGORIAN
BEGIN:VEVENT
DTSTART;VALUE=DATE:20151204
DTEND;VALUE=DATE:20151205
TRANSP:TRANSPARENT
X-MICROSOFT-CDO-ALLDAYEVENT:TRUE
SUMMARY:NIBCA 2015 Sponsor Cash Prize Winner Announced
DESCRIPTION:The NIBCA New Member Sponsor that sponsored the most new members in 2015 will receive $200 Cash.
X-ALT-DESC;FMTTYPE=text/html:The NIBCA New Member Sponsor that sponsored the most new members in 2015 will receive $200 Cash.
LOCATION:
UID:e.9298.499
SEQUENCE:3
DTSTAMP:20260423T230756Z
URL:https://business.nibca.com/events/details/nibca-2015-sponsor-cash-prize-winner-announced-12-04-2015-499
END:VEVENT

END:VCALENDAR
