BEGIN:VCALENDAR
VERSION:2.0
PRODID:-//ChamberMaster//Event Calendar 2.0//EN
METHOD:PUBLISH
X-PUBLISHED-TTL:P3D
REFRESH-INTERVAL:P3D
CALSCALE:GREGORIAN
BEGIN:VEVENT
DTSTART:20151211T200000Z
DTEND:20151211T210000Z
X-MICROSOFT-CDO-ALLDAYEVENT:FALSE
SUMMARY:NIBCA 2016 Committee Chair Meeting
DESCRIPTION:
X-ALT-DESC;FMTTYPE=text/html:
LOCATION:NIBCA Office
UID:e.9298.515
SEQUENCE:3
DTSTAMP:20260424T001911Z
URL:https://business.nibca.com/events/details/nibca-2016-committee-chair-meeting-12-11-2015-515
END:VEVENT

END:VCALENDAR
