BEGIN:VCALENDAR
VERSION:2.0
PRODID:-//ChamberMaster//Event Calendar 2.0//EN
METHOD:PUBLISH
X-PUBLISHED-TTL:P3D
REFRESH-INTERVAL:P3D
CALSCALE:GREGORIAN
BEGIN:VEVENT
DTSTART:20151217T210000Z
DTEND:20151218T000000Z
X-MICROSOFT-CDO-ALLDAYEVENT:FALSE
SUMMARY:NIBCA Associate Council Yule Bucking
DESCRIPTION:Meet at 1:00 pm at the NIBCA office and arrange a rout and carpooling.\n\nWe will say hello to our builders and thank them for their contribution to the Gone Wild and the NIBCA and present them with their gift.\n\n Afterwards we all go to Capone's and enjoy pizza.
X-ALT-DESC;FMTTYPE=text/html:Meet at 1:00 pm at the NIBCA office and arrange a rout and carpooling.<br />\n<span style="color: rgb(31\, 73\, 125)\;"><span style="font-size: medium\;"><span style="font-family: calibri\;">We will say hello to our builders and thank them for their contribution to the Gone Wild and the NIBCA and present them with their gift.</span></span></span><br />\n&nbsp\;<span style="color: rgb(31\, 73\, 125)\;"><span style="font-size: medium\;"><span style="font-family: calibri\;">Afterwards we all go to Capone&rsquo\;s and enjoy pizza.</span></span></span>
LOCATION:
UID:e.9298.511
SEQUENCE:3
DTSTAMP:20260423T225906Z
URL:https://business.nibca.com/events/details/nibca-associate-council-yule-bucking-12-17-2015-511
END:VEVENT

END:VCALENDAR
