BEGIN:VCALENDAR
VERSION:2.0
PRODID:-//ChamberMaster//Event Calendar 2.0//EN
METHOD:PUBLISH
X-PUBLISHED-TTL:P3D
REFRESH-INTERVAL:P3D
CALSCALE:GREGORIAN
BEGIN:VEVENT
DTSTART:20151215T000000Z
DTEND:20151215T020000Z
X-MICROSOFT-CDO-ALLDAYEVENT:FALSE
SUMMARY:NIBCA Associates Council Gone Wild Wrap-Up Party
DESCRIPTION:It's time for our last meeting of 2015!  Thanks so much to all of you for your very hard work\, great ideas and another fun year of laughter!  We are all here for a reason\, business networking and to support our industry....but in the spirit of Thanksgiving\, please know how thankful I am to work alongside with you all and call you my friends.  We had another great year!\n\n \n\nBring your own beer and appetizer to share.  We will spend a bit of time wrapping up Gone Wild! So please come prepared with notes and ideas for next year.
X-ALT-DESC;FMTTYPE=text/html:<span style="font-family: calibri\;"><span style="font-size: 10pt\;">It&rsquo\;s time for our last meeting of 2015!&nbsp\; Thanks so much to all of you for your very hard work\, great ideas and another fun year of laughter!&nbsp\; We are all here for a reason\, business networking and to support our industry....but in the spirit of Thanksgiving\, please know how thankful I am to work alongside with you all and call you my friends.&nbsp\; We had another great year!</span></span><br />\n<span style="font-family: calibri\;">&nbsp\;</span><br />\n<span style="font-size: 10pt\;"><span style="font-family: calibri\,sans-serif\;">Bring your own beer and appetizer to share.&nbsp\;&nbsp\;We will spend a bit of time wrapping up Gone Wild! So please come prepared with notes and ideas for next year.</span></span>
LOCATION:Angela's Condo: In Riverstone at 2051 N Main...the building with Buckle on one corner and JMiller on the other. The door to foyer is halfway down the block\, under the arch. The code to get into the building is 04523 and I am on floor 2....#220. (in corner above JMILLER) . ..
UID:e.9298.510
SEQUENCE:3
DTSTAMP:20260423T231035Z
URL:https://business.nibca.com/events/details/nibca-associates-council-gone-wild-wrap-up-party-12-14-2015-510
END:VEVENT

END:VCALENDAR
