BEGIN:VCALENDAR
VERSION:2.0
PRODID:-//ChamberMaster//Event Calendar 2.0//EN
METHOD:PUBLISH
X-PUBLISHED-TTL:P3D
REFRESH-INTERVAL:P3D
CALSCALE:GREGORIAN
BEGIN:VEVENT
DTSTART:20260108T233000Z
DTEND:20260109T013000Z
X-MICROSOFT-CDO-ALLDAYEVENT:FALSE
SUMMARY:NIBCA Board of Directors Meeting - 2026
DESCRIPTION:The Board of Directors plays an essential role in overseeing the association. They are the ultimate decision-makers\, responsible for making crucial decisions that impact the organization's direction and ensuring that all actions and activities align with the association's objectives. Board members are required to have a good knowledge of the association and its goals and a deep understanding of the issues facing the organization. They are charged with ensuring that the association operates efficiently and effectively\, while striving to achieve its mission and vision.
X-ALT-DESC;FMTTYPE=text/html:The Board of Directors plays an essential role in overseeing the association. They are the ultimate decision-makers\, responsible for making crucial decisions that impact the organization&#39\;s direction and ensuring that all actions and activities align with the association&#39\;s objectives. Board members are required to have a good knowledge of the association and its goals and a deep understanding of the issues facing the organization. They are charged with ensuring that the association operates efficiently and effectively\, while striving to achieve its mission and vision.
LOCATION:NIBCA Classroom 1928 N. 4th Street\, Suite A Coeur d'Alene\, ID 83814
UID:e.9298.10615
SEQUENCE:3
DTSTAMP:20260425T021940Z
URL:https://business.nibca.com/events/details/nibca-board-of-directors-meeting-2026-10615
END:VEVENT

END:VCALENDAR
