BEGIN:VCALENDAR
VERSION:2.0
PRODID:-//ChamberMaster//Event Calendar 2.0//EN
METHOD:PUBLISH
X-PUBLISHED-TTL:P3D
REFRESH-INTERVAL:P3D
CALSCALE:GREGORIAN
BEGIN:VEVENT
DTSTART;VALUE=DATE:20190711
DTEND;VALUE=DATE:20190714
TRANSP:TRANSPARENT
X-MICROSOFT-CDO-ALLDAYEVENT:TRUE
SUMMARY:NIBCA CAMP OUT AT ALBERT'S LANDING
DESCRIPTION:CAMPOUT AT ALBERT'S LANDING\n\nCOEUR D ALENE RIVER\n\n418 Old River Road\, Kingston ID \n\n208.682.4179\n\n208.661.4394
X-ALT-DESC;FMTTYPE=text/html:CAMPOUT AT ALBERT&#39\;S LANDING<br />\nCOEUR D ALENE RIVER<br />\n418 Old River Road\, Kingston ID&nbsp\;<br />\n<span style="color: rgb(0\, 0\, 0)\; font-family: Raleway\; font-size: 16px\; letter-spacing: 0.4px\; text-align: center\; white-space: pre-wrap\; background-color: rgb(250\, 255\, 250)\;">208.682.4179</span><br style="overflow-wrap: break-word\; color: rgb(0\, 0\, 0)\; font-family: Raleway\; font-size: 16px\; letter-spacing: 0.4px\; text-align: center\; white-space: pre-wrap\; background-color: rgb(250\, 255\, 250)\;" />\n<span style="color: rgb(0\, 0\, 0)\; font-family: Raleway\; font-size: 16px\; letter-spacing: 0.4px\; text-align: center\; white-space: pre-wrap\; background-color: rgb(250\, 255\, 250)\;">208.661.4394</span><br />\n&nbsp\;
LOCATION:From I-90\, take Exit 43 (Kingston) and travel past the Snake Pit to the turnoff for the Old River Road Cross the river and you are there..
UID:e.9298.1370
SEQUENCE:3
DTSTAMP:20260421T094947Z
URL:https://business.nibca.com/events/details/nibca-camp-out-at-albert-s-landing-1370
END:VEVENT

END:VCALENDAR
