BEGIN:VCALENDAR
VERSION:2.0
PRODID:-//ChamberMaster//Event Calendar 2.0//EN
METHOD:PUBLISH
X-PUBLISHED-TTL:P3D
REFRESH-INTERVAL:P3D
CALSCALE:GREGORIAN
BEGIN:VEVENT
DTSTART:20190507T190000Z
DTEND:20190507T200000Z
X-MICROSOFT-CDO-ALLDAYEVENT:FALSE
SUMMARY:NIBCA Finance Committee Meeting
DESCRIPTION:Financial Committee
X-ALT-DESC;FMTTYPE=text/html:Financial Committee&nbsp\;&nbsp\;&nbsp\;&nbsp\;
LOCATION:NIBCA Office: 1928 N. 4th Street Coeur d'Alene\, ID 83814
UID:e.9298.171
SEQUENCE:3
DTSTAMP:20260421T123505Z
URL:https://business.nibca.com/events/details/nibca-finance-committee-meeting-05-14-2019-171
END:VEVENT

END:VCALENDAR
