BEGIN:VCALENDAR
VERSION:2.0
PRODID:-//ChamberMaster//Event Calendar 2.0//EN
METHOD:PUBLISH
X-PUBLISHED-TTL:P3D
REFRESH-INTERVAL:P3D
CALSCALE:GREGORIAN
BEGIN:VEVENT
DTSTART:20190715T190000Z
DTEND:20190715T200000Z
X-MICROSOFT-CDO-ALLDAYEVENT:FALSE
SUMMARY:NIBCA Finance Committee Meeting
DESCRIPTION:DATE CHANGED  to MONDAY July 15th   NOON\n\nwe have conflicts on Tuesday the 9th
X-ALT-DESC;FMTTYPE=text/html:DATE CHANGED&nbsp\; to MONDAY July 15th&nbsp\; &nbsp\;NOON<br />\nwe have conflicts on Tuesday the 9th
LOCATION:NIBCA Office: 1928 N. 4th Street Coeur d'Alene\, ID 83814
UID:e.9298.173
SEQUENCE:3
DTSTAMP:20260421T095113Z
URL:https://business.nibca.com/events/details/nibca-finance-committee-meeting-07-09-2019-173
END:VEVENT

END:VCALENDAR
