BEGIN:VCALENDAR
VERSION:2.0
PRODID:-//ChamberMaster//Event Calendar 2.0//EN
METHOD:PUBLISH
X-PUBLISHED-TTL:P3D
REFRESH-INTERVAL:P3D
CALSCALE:GREGORIAN
BEGIN:VEVENT
DTSTART:20190828T230000Z
DTEND:20190829T000000Z
X-MICROSOFT-CDO-ALLDAYEVENT:FALSE
SUMMARY:Parade of Homes Committee
DESCRIPTION:Parade of Homes Committee
X-ALT-DESC;FMTTYPE=text/html:Parade of Homes Committee&nbsp\;&nbsp\;&nbsp\;&nbsp\;&nbsp\;
LOCATION:NIBCA office 1928 N 4th St
UID:e.9298.1530
SEQUENCE:3
DTSTAMP:20260421T094426Z
URL:https://business.nibca.com/events/details/parade-of-homes-committee-1530
END:VEVENT

END:VCALENDAR
