BEGIN:VCALENDAR
VERSION:2.0
PRODID:-//ChamberMaster//Event Calendar 2.0//EN
METHOD:PUBLISH
X-PUBLISHED-TTL:P3D
REFRESH-INTERVAL:P3D
CALSCALE:GREGORIAN
BEGIN:VEVENT
DTSTART:20190614T190000Z
DTEND:20190614T200000Z
X-MICROSOFT-CDO-ALLDAYEVENT:FALSE
SUMMARY:Professional Women in Building Meeting
DESCRIPTION:PWB General Membership Meeting \n\nGuest Speaker- Lea Williams- Tomlinson Sotheby's International Realty
X-ALT-DESC;FMTTYPE=text/html:PWB General Membership Meeting&nbsp\;<br />\nGuest Speaker- Lea Williams- Tomlinson Sotheby&#39\;s International Realty
LOCATION:Best Western\, CDA Inn 506 West Appleway Coeur d Alene\, ID 83814
UID:e.9298.1068
SEQUENCE:3
DTSTAMP:20260421T111712Z
URL:https://business.nibca.com/events/details/professional-women-in-building-committee-meeting-06-14-2019-1068
END:VEVENT

END:VCALENDAR
