BEGIN:VCALENDAR
VERSION:2.0
PRODID:-//ChamberMaster//Event Calendar 2.0//EN
METHOD:PUBLISH
X-PUBLISHED-TTL:P3D
REFRESH-INTERVAL:P3D
CALSCALE:GREGORIAN
BEGIN:VEVENT
DTSTART:20190605T230000Z
DTEND:20190606T003000Z
X-MICROSOFT-CDO-ALLDAYEVENT:FALSE
SUMMARY:Professional Women in Building Executive Committee Meeting
DESCRIPTION:PWB Executive Board Meeting
X-ALT-DESC;FMTTYPE=text/html:PWB Executive Board Meeting
LOCATION:NIBCA Office
UID:e.9298.857
SEQUENCE:3
DTSTAMP:20260421T111338Z
URL:https://business.nibca.com/events/details/professional-women-in-building-executive-committee-meeting-06-05-2019-857
END:VEVENT

END:VCALENDAR
