BEGIN:VCALENDAR
VERSION:2.0
PRODID:-//ChamberMaster//Event Calendar 2.0//EN
METHOD:PUBLISH
X-PUBLISHED-TTL:P3D
REFRESH-INTERVAL:P3D
CALSCALE:GREGORIAN
BEGIN:VEVENT
DTSTART:20260115T020000Z
DTEND:20260115T040000Z
X-MICROSOFT-CDO-ALLDAYEVENT:FALSE
SUMMARY:Speakeasy
DESCRIPTION:Precision Gutters and Roofing
X-ALT-DESC;FMTTYPE=text/html:<table border="0" cellpadding="0" cellspacing="0" class="txtNormal" style="border-collapse: collapse\; border: 0px\; font-family: Roboto\, sans-serif\; background-color: rgb(240\, 240\, 240)\;" width="100%">\n	<tbody style="border-color: rgb(133\, 133\, 133)\;">\n		<tr>\n			<td>\n			<div class="txtHeading" style="font-size: 16px\; line-height: 1.5\;">Precision Gutters and Roofing</div>\n			</td>\n		</tr>\n	</tbody>\n</table>\n
LOCATION:
UID:e.9298.11310
SEQUENCE:3
DTSTAMP:20260425T021509Z
URL:https://business.nibca.com/events/details/speakeasy-11310
END:VEVENT

END:VCALENDAR
