BEGIN:VCALENDAR
VERSION:2.0
PRODID:-//ChamberMaster//Event Calendar 2.0//EN
METHOD:PUBLISH
X-PUBLISHED-TTL:P3D
REFRESH-INTERVAL:P3D
CALSCALE:GREGORIAN
BEGIN:VEVENT
DTSTART:20260117T000000Z
DTEND:20260117T020000Z
X-MICROSOFT-CDO-ALLDAYEVENT:FALSE
SUMMARY:Speakeasy
DESCRIPTION:PAHA
X-ALT-DESC;FMTTYPE=text/html:PAHA
LOCATION:
UID:e.9298.11314
SEQUENCE:3
DTSTAMP:20260425T022210Z
URL:https://business.nibca.com/events/details/speakeasy-11314
END:VEVENT

END:VCALENDAR
