BEGIN:VCALENDAR
VERSION:2.0
PRODID:-//ChamberMaster//Event Calendar 2.0//EN
METHOD:PUBLISH
X-PUBLISHED-TTL:P3D
REFRESH-INTERVAL:P3D
CALSCALE:GREGORIAN
BEGIN:VEVENT
DTSTART:20190521T223000Z
DTEND:20190522T000000Z
X-MICROSOFT-CDO-ALLDAYEVENT:FALSE
SUMMARY:Young Professionals
DESCRIPTION:Young Professionals
X-ALT-DESC;FMTTYPE=text/html:<br />\nYoung Professionals&nbsp\;&nbsp\;&nbsp\;&nbsp\;
LOCATION:Daft Badger 1710 N 2nd St
UID:e.9298.1469
SEQUENCE:3
DTSTAMP:20260421T135603Z
URL:https://business.nibca.com/events/details/young-professionals-05-21-2019-1469
END:VEVENT

END:VCALENDAR
