BEGIN:VCALENDAR
VERSION:2.0
PRODID:-//ChamberMaster//Event Calendar 2.0//EN
METHOD:PUBLISH
X-PUBLISHED-TTL:P3D
REFRESH-INTERVAL:P3D
CALSCALE:GREGORIAN
BEGIN:VEVENT
DTSTART:20190521T000000Z
DTEND:20190521T010000Z
X-MICROSOFT-CDO-ALLDAYEVENT:FALSE
SUMMARY:YP Golf Tournament Committee
DESCRIPTION:YP Golf Tournment Committee
X-ALT-DESC;FMTTYPE=text/html:YP Golf Tournment Committee
LOCATION:NIBCA Office 1928 N 4th St\, Ste A
UID:e.9298.1520
SEQUENCE:3
DTSTAMP:20260421T135723Z
URL:https://business.nibca.com/events/details/yp-golf-tournament-committee-1520
END:VEVENT

END:VCALENDAR
