BEGIN:VCALENDAR
VERSION:2.0
PRODID:-//ChamberMaster//Event Calendar 2.0//EN
METHOD:PUBLISH
X-PUBLISHED-TTL:P3D
REFRESH-INTERVAL:P3D
CALSCALE:GREGORIAN
BEGIN:VEVENT
DTSTART:20190730T233000Z
DTEND:20190731T003000Z
X-MICROSOFT-CDO-ALLDAYEVENT:FALSE
SUMMARY:YP/NIB-PAC Golf Committee
DESCRIPTION:YP/ NIB-PAC Golf Committee meeting
X-ALT-DESC;FMTTYPE=text/html:YP/ NIB-PAC Golf Committee meeting&nbsp\;&nbsp\;&nbsp\;&nbsp\;
LOCATION:NIBCA Office 1928 N 4th ST
UID:e.9298.1526
SEQUENCE:3
DTSTAMP:20260421T094246Z
URL:https://business.nibca.com/events/details/yp-nib-pac-golf-committee-1526
END:VEVENT

END:VCALENDAR
